BEGIN:VCALENDAR
VERSION:2.0
PRODID:-//Chepstow Art Space - ECPv6.15.20//NONSGML v1.0//EN
CALSCALE:GREGORIAN
METHOD:PUBLISH
X-ORIGINAL-URL:https://chepstow-artspace.com
X-WR-CALDESC:Events for Chepstow Art Space
REFRESH-INTERVAL;VALUE=DURATION:PT1H
X-Robots-Tag:noindex
X-PUBLISHED-TTL:PT1H
BEGIN:VTIMEZONE
TZID:UTC
BEGIN:STANDARD
TZOFFSETFROM:+0000
TZOFFSETTO:+0000
TZNAME:UTC
DTSTART:20220101T000000
END:STANDARD
END:VTIMEZONE
BEGIN:VEVENT
DTSTART;TZID=UTC:20230623T180000
DTEND;TZID=UTC:20230623T200000
DTSTAMP:20260424T231826
CREATED:20230515T182505Z
LAST-MODIFIED:20230515T215917Z
UID:1025-1687543200-1687550400@chepstow-artspace.com
SUMMARY:Polymer clay
DESCRIPTION:
URL:https://chepstow-artspace.com/event/polymer-clay-3/
LOCATION:Chepstow Art Space @ The Old Library
END:VEVENT
BEGIN:VEVENT
DTSTART;TZID=UTC:20230620T183000
DTEND;TZID=UTC:20230620T210000
DTSTAMP:20260424T231826
CREATED:20230515T191137Z
LAST-MODIFIED:20230604T190753Z
UID:1058-1687285800-1687294800@chepstow-artspace.com
SUMMARY:Pattern cutting
DESCRIPTION:
URL:https://chepstow-artspace.com/event/pattern-cutting-3/
LOCATION:Chepstow Art Space @ The Old Library
END:VEVENT
BEGIN:VEVENT
DTSTART;TZID=UTC:20230619T183000
DTEND;TZID=UTC:20230619T203000
DTSTAMP:20260424T231826
CREATED:20230515T185341Z
LAST-MODIFIED:20230515T185341Z
UID:1042-1687199400-1687206600@chepstow-artspace.com
SUMMARY:Pottery
DESCRIPTION:
URL:https://chepstow-artspace.com/event/pottery-2/
LOCATION:Chepstow Art Space @ The Old Library
END:VEVENT
BEGIN:VEVENT
DTSTART;TZID=UTC:20230616T180000
DTEND;TZID=UTC:20230616T200000
DTSTAMP:20260424T231826
CREATED:20230515T182433Z
LAST-MODIFIED:20230515T215940Z
UID:1023-1686938400-1686945600@chepstow-artspace.com
SUMMARY:Polymer clay
DESCRIPTION:
URL:https://chepstow-artspace.com/event/polymer-clay-2/
LOCATION:Chepstow Art Space @ The Old Library
END:VEVENT
BEGIN:VEVENT
DTSTART;TZID=UTC:20230613T183000
DTEND;TZID=UTC:20230613T210000
DTSTAMP:20260424T231826
CREATED:20230515T191110Z
LAST-MODIFIED:20230604T191401Z
UID:1056-1686681000-1686690000@chepstow-artspace.com
SUMMARY:Pattern cutting
DESCRIPTION:
URL:https://chepstow-artspace.com/event/pattern-cutting-2/
LOCATION:Chepstow Art Space @ The Old Library
END:VEVENT
BEGIN:VEVENT
DTSTART;TZID=UTC:20230612T183000
DTEND;TZID=UTC:20230612T203000
DTSTAMP:20260424T231826
CREATED:20230515T185301Z
LAST-MODIFIED:20230515T185301Z
UID:1040-1686594600-1686601800@chepstow-artspace.com
SUMMARY:Pottery
DESCRIPTION:
URL:https://chepstow-artspace.com/event/pottery/
LOCATION:Chepstow Art Space @ The Old Library
END:VEVENT
BEGIN:VEVENT
DTSTART;TZID=UTC:20230609T180000
DTEND;TZID=UTC:20230609T200000
DTSTAMP:20260424T231826
CREATED:20230515T182304Z
LAST-MODIFIED:20230515T220010Z
UID:1021-1686333600-1686340800@chepstow-artspace.com
SUMMARY:Polymer Clay
DESCRIPTION:
URL:https://chepstow-artspace.com/event/polymer-clay/
LOCATION:Chepstow Art Space @ The Old Library
END:VEVENT
BEGIN:VEVENT
DTSTART;TZID=UTC:20230605T183000
DTEND;TZID=UTC:20230605T203000
DTSTAMP:20260424T231826
CREATED:20230515T185223Z
LAST-MODIFIED:20230515T185425Z
UID:982-1685989800-1685997000@chepstow-artspace.com
SUMMARY:Pottery
DESCRIPTION:
URL:https://chepstow-artspace.com/event/pottery-workshop/
LOCATION:Chepstow Art Space @ The Old Library
END:VEVENT
BEGIN:VEVENT
DTSTART;TZID=UTC:20230604T100000
DTEND;TZID=UTC:20230604T160000
DTSTAMP:20260424T231826
CREATED:20230515T183809Z
LAST-MODIFIED:20230515T183809Z
UID:1030-1685872800-1685894400@chepstow-artspace.com
SUMMARY:Bird whittling
DESCRIPTION:
URL:https://chepstow-artspace.com/event/bird-whittling/
LOCATION:Chepstow Art Space @ The Old Library
END:VEVENT
BEGIN:VEVENT
DTSTART;TZID=UTC:20230603T140000
DTEND;TZID=UTC:20230603T173000
DTSTAMP:20260424T231826
CREATED:20230515T184514Z
LAST-MODIFIED:20230515T184514Z
UID:1034-1685800800-1685813400@chepstow-artspace.com
SUMMARY:Stain glass
DESCRIPTION:
URL:https://chepstow-artspace.com/event/stain-glass-2/
LOCATION:Chepstow Art Space @ The Old Library
END:VEVENT
BEGIN:VEVENT
DTSTART;TZID=UTC:20230603T093000
DTEND;TZID=UTC:20230603T130000
DTSTAMP:20260424T231826
CREATED:20230515T184442Z
LAST-MODIFIED:20230515T184442Z
UID:1032-1685784600-1685797200@chepstow-artspace.com
SUMMARY:Stain glass
DESCRIPTION:
URL:https://chepstow-artspace.com/event/stain-glass/
LOCATION:Chepstow Art Space @ The Old Library
END:VEVENT
BEGIN:VEVENT
DTSTART;TZID=UTC:20230602T180000
DTEND;TZID=UTC:20230602T200000
DTSTAMP:20260424T231826
CREATED:20230515T185811Z
LAST-MODIFIED:20230515T220153Z
UID:1051-1685728800-1685736000@chepstow-artspace.com
SUMMARY:Polymer clay
DESCRIPTION:
URL:https://chepstow-artspace.com/event/polymer-clay-5/
LOCATION:Chepstow Art Space @ The Old Library
END:VEVENT
END:VCALENDAR